BEGIN:VCALENDAR
VERSION:2.0
PRODID:-//Cristina Subirats - ECPv6.0.10//NONSGML v1.0//EN
CALSCALE:GREGORIAN
METHOD:PUBLISH
X-ORIGINAL-URL:https://cristinasubirats.com
X-WR-CALDESC:Eventos para Cristina Subirats
REFRESH-INTERVAL;VALUE=DURATION:PT1H
X-Robots-Tag:noindex
X-PUBLISHED-TTL:PT1H
BEGIN:VTIMEZONE
TZID:UTC
BEGIN:STANDARD
TZOFFSETFROM:+0000
TZOFFSETTO:+0000
TZNAME:UTC
DTSTART:20260101T000000
END:STANDARD
END:VTIMEZONE
BEGIN:VEVENT
DTSTART;TZID=UTC:20260619T223000
DTEND;TZID=UTC:20260619T233000
DTSTAMP:20260421T122727
CREATED:20260220T094642Z
LAST-MODIFIED:20260220T094642Z
UID:10000007-1781908200-1781911800@cristinasubirats.com
SUMMARY:Ninguna Planta es de interior
DESCRIPTION:
URL:https://cristinasubirats.com/evento/ninguna-planta-es-de-interior/
LOCATION:Festival de los castillos- Novallas\, Zaragoz
ATTACH;FMTTYPE=image/jpeg:https://cristinasubirats.com/wp-content/uploads/2026/02/plantilla-obra-web.jpg
END:VEVENT
END:VCALENDAR